BEGIN:VCALENDAR
VERSION:2.0
PRODID:Imitheme.com
BEGIN:VEVENT
UID:20260421T233043-882719241
DTSTAMP:20260421T233043
DTSTART:20260421T233043Z
DTEND:20260421T233043Z
SUMMARY:Total Lunar Eclipse
LOCATION:
DESCRIPTION: Come out to the Mark Smith Planetarium at the Museum of Arts and Sciences and experience the last Total Lunar Eclipse until 2029! See it up close and in focus with our telescopes or watch the livestream inside. Learn all about the event during a live Planetarium show. This event is free and open to the public!
END:VEVENT
END:VCALENDAR
