BEGIN:VCALENDAR
VERSION:2.0
PRODID:Imitheme.com
BEGIN:VEVENT
UID:20260421T232523-804428336
DTSTAMP:20260421T232523
DTSTART:20260421T232523Z
DTEND:20260421T232523Z
SUMMARY:Astronomy Day
LOCATION:
DESCRIPTION: Calling all space explorers! Come to the Museum of Arts and Sciences for an out of this world event featuring the Middle Georgia Astronomical Society, solar viewing, NASA astronaut livestream, and MORE! We will have planetarium shows, a telescope workshop, and a prize raffle. Don't miss out on <span class="markbugq3l9d9" data-markjs="true" data-ogac="" data-ogab="" data-ogsc="" data-ogsb="">Astronomy</span> <span class="markuz3b5fp2v" data-markjs="true" data-ogac="" data-ogab="" data-ogsc="" data-ogsb="">Day</span> on Saturday, April 25th! This event is FREE for members and included in our regular admission prices.
END:VEVENT
END:VCALENDAR
