BEGIN:VCALENDAR
VERSION:2.0
PRODID:Imitheme.com
BEGIN:VEVENT
UID:20260421T195201-157734944
DTSTAMP:20260421T195201
DTSTART:20260421T195201Z
DTEND:20260421T195201Z
SUMMARY:Bird Day
LOCATION:
DESCRIPTION: The Museum of Arts and Sciences is excited to present Bird Day on June 27, 2026! There's fun for the whole family with live animal experiences, meet and greets with the Georgia Falconry Association, and bird craft activities happening all day long! Learn about falconry and all the birds that call the Mini-Zoo their home. <span data-olk-copy-source="MessageBody">This event is FREE for members and included in our regular admission prices.</span>
END:VEVENT
END:VCALENDAR
