BEGIN:VCALENDAR
VERSION:2.0
PRODID:Imitheme.com
BEGIN:VEVENT
UID:20260421T195309-657539656
DTSTAMP:20260421T195309
DTSTART:20260421T195309Z
DTEND:20260421T195309Z
SUMMARY:Reptile Day
LOCATION:
DESCRIPTION: The Museum of Arts and Sciences is excited to announce Reptile Day is back again for 2026! Enjoy live animal experiences, meet and greets with all of our slithering friends, and reptile activities all day long! Don't miss out on Reptile Day July 25, 2026! We can't wait to see you there! <span data-olk-copy-source="MessageBody">This event is FREE for members and included in our regular admission prices.</span>

Hear all about reptiles from these visiting partners:

Georgia Department of Natural Resources

Georgia Reptile Society
END:VEVENT
END:VCALENDAR
